BEGIN:VCALENDAR
VERSION:2.0
PRODID:-//hacksw/handcal//NONSGML v1.0//EN
CALSCALE:GREGORIAN
BEGIN:VEVENT
ORGANIZER;CN=Payoneer Inc.:MAILTO:no-reply@gcs-web.com
DTEND:
UID:a41dbdea-1487-4f00-aa88-ff8b28afd273
DTSTAMP:1777131154
LOCATION:https://edge.media-server.com/mmc/p/ospphbs7
DESCRIPTION:Event Details https://investor.payoneer.com/events/event-details/payoneer-first-quarter-2026-earnings-call\n\nWebcast: https://edge.media-server.com/mmc/p/ospphbs7
URL;VALUE=URI:https://edge.media-server.com/mmc/p/ospphbs7
SUMMARY:Payoneer Inc. - Payoneer First Quarter 2026 Earnings Call
DTSTART:20260507T123000Z
END:VEVENT
END:VCALENDAR